BEGIN:VCALENDAR
VERSION:2.0
PRODID:Imitheme.com
BEGIN:VEVENT
UID:20260419T111103-775040058
DTSTAMP:20260419T111103
DTSTART:20260418T111100
DTEND:20260418T111100
SUMMARY:2019 GLORY TO GLORY SERVICE
LOCATION:
DESCRIPTION: 
END:VEVENT
END:VCALENDAR
