BEGIN:VCALENDAR
VERSION:2.0
PRODID:Imitheme.com
BEGIN:VEVENT
UID:20260421T051538-2052832088
DTSTAMP:20260421T051538
DTSTART:20260312T051500
DTEND:20260312T051500
SUMMARY:Christmas Day Service
LOCATION:
DESCRIPTION: 
END:VEVENT
END:VCALENDAR
